Workbook

Sheet Introduction
D3: EDI Maturity Self-Assessment Tool
B5: Homeless Link’s Equity, Diversity and Inclusion (EDI) Maturity Self-Assessment Tool provides a structured set of self-assessment questions to help leaders in the homelessness sector assess the maturity of organisational EDI policies and practices.
B10: Please ensure you have read the accompanying guidance in advance of completion:
B11: Introducing the Homeless Link EDI Maturity Self-Assessment Tool
B14: You should then complete the "About Your Organisation" tab before moving on to use the tool.
B16: The EDI Tool poses a series of questions, grouped into four themes.
B18: Section 1 | C18: Governance, Strategy and Leadership
B19: Section 2 | C19: Culture and Voice
B20: Section 3 | C20: Recruitment, Management and Progression
B21: Section 4 | C21: Data, Monitoring and Evaluation

Sheet About your organisation
B2: About Your Organisation
B3: Completing the below fields helps us to better analyse the data and determine trends.
B6: Project Lead name
B7: Project Lead email
B8: Organisation name
B9: Region*
B10: Local Authority*
B11: Number of staff
B12: Annual turnover
B14: *If your organisation operates in multiple areas, please select the option relating to your main or head office

Sheet Section 1 
C2: Section 1: Governance, Strategy and Leadership
C3: To achieve sustained Equity, Diversity and Inclusion (EDI) progress, an organisation needs to ensure sufficient diversity of perspective and expertise; have a clear strategy with measurable and achievable goals; and effective leadership.
B4: Q# | C4: For each question, choose the closest description from these four options in the "Response" column. You will need to agree how you as an organisation define “for some time” before you start the assessment. For most organisations, this will be two years or more. | E4: Response | F4: Score | G4: MAX
C5: Your board of trustees/directors
B6: 2 | C6: A | D6: Do you monitor the diversity of your board? Diversity refers to their background, experience and/or identity. By monitor we mean collect and review data | F6: {=IFERROR(_xlfn.IFS(E6="We do not monitor diversity characteristics",1,E6="We monitor only age and sex",2,E6="As well as age and sex, we monitor one or more of disability, ethnicity, religion, sexual orientation, gender, socio-economic background or lived experience of homelessness",3,E6="As well as age and sex, we monitor all or most of disability, ethnicity, religion, sexual orientation, gender, socio-economic background and lived experience of homelessness", 4),"")} | G6: 3
B7: 3 | C7: B1 | D7: Are you actively working to ensure diversity among your board? | F7: {=IFERROR(_xlfn.IFS(E7="We have not started this",1,E7="We have committed to a plan",2,E7="We have launched and are developing this",3,E7="We have been doing this for some time", 4),"")} | G7: 3
B8: 4 | C8: B2 | D8: If you have started this, does this explicitly include lived experience of homelessness? | F8: {=IFERROR(_xlfn.IFS(E8="Yes",1,E8="N/A",0,E8="No",0),"")} | G8: 1
B9: 5 | C9: C | D9: Does EDI form part of induction and/or training for your board? | F9: {=IFERROR(_xlfn.IFS(E9="We have not started this",1,E9="We have committed to a plan",2,E9="We have launched and are developing this",3,E9="We have been doing this for some time", 4),"")} | G9: 3
C10: Your senior staff
B11: 6 | C11: D | D11: Do you monitor the diversity of your senior staff? Senior staff refers to your Senior Management Team (SMT) or Senior Leadership Team (SLT), or the staff who are the key strategic decision makers in organisations which don't have an SMT/SLT. Diversity refers to their background, experience and/or identity. By monitor we mean collect and review data. | F11: {=IFERROR(_xlfn.IFS(E11="We do not monitor diversity characteristics",1,E11="We monitor only age and sex",2,E11="As well as age and sex, we monitor one or more of disability, ethnicity, religion, sexual orientation, gender, socio-economic background or lived experience of homelessness",3,E11="As well as age and sex, we monitor all or most of disability, ethnicity, religion, sexual orientation, gender, socio-economic background and lived experience of homelessness", 4),"")} | G11: 3
B12: 7 | C12: E1 | D12: Are you actively working to ensure diversity of senior staff? | F12: {=IFERROR(_xlfn.IFS(E12="We have not started this",1,E12="We have committed to a plan",2,E12="We have launched and are developing this",3,E12="We have been doing this for some time", 4),"")} | G12: 3
B13: 8 | C13: E2 | D13: If you have started this, does this explicitly include lived experience of homelessness? | F13: {=IFERROR(_xlfn.IFS(E13="Yes",1,E13="N/A",0,E13="No",0),"")} | G13: 1
B14: 9 | C14: F | D14: Does EDI form part of induction and/or training for your senior staff? | F14: {=IFERROR(_xlfn.IFS(E14="We have not started this",1,E14="We have committed to a plan",2,E14="We have launched and are developing this",3,E14="We have been doing this for some time", 4),"")} | G14: 3
C15: Strategy and planning
B16: 10 | C16: G1 | D16: Are there opportunities for diverse voices, including those with lived experience of homelessness, to feed into EDI strategy, planning and evaluation? Examples are advisory groups, networks and forums. | F16: {=IFERROR(_xlfn.IFS(E16="We have not started this",1,E16="We have committed to a plan",2,E16="We have launched and are developing this",3,E16="We have been doing this for some time", 4),"")} | G16: 3
B17: 11 | C17: G2 | D17: If you have started this, does this explicitly include lived experience of homelessness? | F17: {=IFERROR(_xlfn.IFS(E17="Yes",1,E17="N/A",0,E17="No",0),"")} | G17: 1
B18: 12 | C18: H | D18: Do you complete equality impact assessments for new projects, with a process for completion, review, sign off and monitoring that actions are done? | F18: {=IFERROR(_xlfn.IFS(E18="We have not started this",1,E18="We have committed to a plan",2,E18="We have launched and are developing this",3,E18="We have been doing this for some time", 4),"")} | G18: 3
C19: Approach to EDI
B20: 13 | C20: I | D20: Do you have an EDI strategy that is regularly updated? | F20: {=IFERROR(_xlfn.IFS(E20="We have not started this",1,E20="We have committed to a plan",2,E20="We have launched and are developing this",3,E20="We have been doing this for some time", 4),"")} | G20: 3
B21: 14 | C21: J | D21: Do you have an EDI plan that is regularly updated? | F21: {=IFERROR(_xlfn.IFS(E21="We have not started this",1,E21="We have committed to a plan",2,E21="We have launched and are developing this",3,E21="We have been doing this for some time", 4),"")} | G21: 3
B22: 15 | C22: K | D22: Do senior leaders have EDI objectives linked to your overall organisational and/or EDI strategy and plan? | F22: {=IFERROR(_xlfn.IFS(E22="We have not started this",1,E22="We have committed to a plan",2,E22="We have launched and are developing this",3,E22="We have been doing this for some time", 4),"")} | G22: 3
B23: 16 | C23: L | D23: Do you have one or more EDI champions or another way for people with lived experience of minoritised diversity characteristics to demonstrate visible leadership? Examples of mechanisms include advisory groups, staff/volunteer networks or resonance groups. | F23: {=IFERROR(_xlfn.IFS(E23="We have not started this",1,E23="We have committed to a plan",2,E23="We have launched and are developing this",3,E23="We have been doing this for some time", 4),"")} | G23: 3
C24: Scrutiny
B25: 17 | C25: M | D25: Is progress on EDI regularly reviewed by the board? | F25: {=IFERROR(_xlfn.IFS(E25="We have not started this",1,E25="We have committed to a plan",2,E25="We have launched and are developing this",3,E25="We have been doing this for some time", 4),"")} | G25: 3
B26: 18 | C26: N | D26: Do you clearly and regularly communicate your approach to EDI to employees, volunteers and those accessing services? | F26: {=IFERROR(_xlfn.IFS(E26="We have not started this",1,E26="We have committed to a plan",2,E26="We have launched and are developing this",3,E26="We have been doing this for some time", 4),"")} | G26: 3
B27: 19 | C27: O | D27: Do you have a mechanism for people with lived experience of homelessness to provide scrutiny within governance processes? Examples of mechanisms include advisory groups, expert panels or sub-committees. | F27: {=IFERROR(_xlfn.IFS(E27="We have not started this",1,E27="We have committed to a plan",2,E27="We have launched and are developing this",3,E27="We have been doing this for some time", 4),"")} | G27: 3
B28: 20 | C28: P | D28: Do you publish your EDI performance and impact? | F28: {=IFERROR(_xlfn.IFS(E28="We have not started this",1,E28="We have committed to a plan",2,E28="We have launched and are developing this",3,E28="We have been doing this for some time", 4),"")} | G28: 3
B29: 21 | C29: Q | D29: Do you participate in any external accreditation schemes relating to EDI? | F29: {=IFERROR(_xlfn.IFS(E29="We have not started this",1,E29="We have committed to a plan",2,E29="We have launched and are developing this",3,E29="We have been doing this for some time", 4),"")} | G29: 3
C31: Total Score for Section 1: Governance, Strategy and Leadership | F31: =SUM(F6:F29) -> 0 | G31: =SUM(G5:G30) -> 54
C32: Self-Assessment Rating: | F32: =IF(F31>36,"Established",(IF(F31>18,"Developing","Beginning"))) -> Beginning
F33: Beginning | G33: 1-18
F34: Developing | G34: 19-36
F35: Established | G35: 37-54

Sheet Section 2
C2: Section 2: Culture and Voice
C3: This section is about your organisation's culture and how safe, comfortable, valued and able to contribute colleagues and those accessing services feel. To achieve sustained progress, an organisation's culture needs to be open, fair and inclusive and leaders need to be assured that they understand the experiences of all parts of the workforce and all those who access services.
C4: For each question, choose the closest description from these four options in the "Response" column. You will need to agree how you as an organisation define “for some time” before you start the assessment. For most organisations, this will be two years or more. | E4: Response | F4: Score | G4: MAX
C5: People accessing your services
C6: A1 | D6: Do you regularly undertake surveys to assess the experiences of people accessing your services? | F6: {=IFERROR(_xlfn.IFS(E6="We have not started this",1,E6="We have committed to a plan",2,E6="We have launched and are developing this",3,E6="We have been doing this for some time", 4),"")} | G6: 3
C7: A2 | D7: If you have started this, do you analyse the data by any diversity characteristic? | F7: {=IFERROR(_xlfn.IFS(E7="Yes",1,E7="N/A",0,E7="No",0),"")} | G7: 1
C8: B | D8: Do you have another way of ensuring that diverse experiences are captured, for example through externally facilitated focus groups? | F8: {=IFERROR(_xlfn.IFS(E8="We have not started this",1,E8="We have committed to a plan",2,E8="We have launched and are developing this",3,E8="We have been doing this for some time", 4),"")} | G8: 3
C9: C1 | D9: Do people accessing services have clear and anonymous routes to report bullying, discrimination and harassment? | F9: {=IFERROR(_xlfn.IFS(E9="We have not started this",1,E9="We have committed to a plan",2,E9="We have launched and are developing this",3,E9="We have been doing this for some time", 4),"")} | G9: 3
C10: C2 | D10: If you have started this, is there an external, confidential and independent mechanism for reporting such behaviour? | F10: {=IFERROR(_xlfn.IFS(E10="Yes",1,E10="N/A",0,E10="No",0),"")} | G10: 1
C11: D | D11: Do you measure how physically and psychologically safe people accessing services feel to speak up, speak out, say no and question others. For example, this could be through specific questions in surveys or exit interviews for leavers? | F11: {=IFERROR(_xlfn.IFS(E11="We have not started this",1,E11="We have committed to a plan",2,E11="We have launched and are developing this",3,E11="We have been doing this for some time", 4),"")} | G11: 3
C12: E | D12: Do you recognise the contributions of people accessing your services, for example by paying a fee or voucher? | F12: {=IFERROR(_xlfn.IFS(E12="We have not started this",1,E12="We have committed to a plan",2,E12="We have launched and are developing this",3,E12="We have been doing this for some time", 4),"")} | G12: 3
C13: Staff and volunteers
C14: F1 | D14: Do you regularly undertake surveys to assess the experiences of your staff and volunteers? | F14: {=IFERROR(_xlfn.IFS(E14="We have not started this",1,E14="We have committed to a plan",2,E14="We have launched and are developing this",3,E14="We have been doing this for some time", 4),"")} | G14: 3
C15: F2 | D15: If you have started this, do you analyse the data by any diversity characteristic? | F15: {=IFERROR(_xlfn.IFS(E15="Yes",1,E15="N/A",0,E15="No",0),"")} | G15: 1
C16: F3 | D16: Do you have another way of ensuring that diverse experiences are captured, for example throughdiversity networks? | F16: {=IFERROR(_xlfn.IFS(E16="We have not started this",1,E16="We have committed to a plan",2,E16="We have launched and are developing this",3,E16="We have been doing this for some time", 4),"")} | G16: 3
C17: G | D17: Do staff and volunteers have clear and anonymous routes to report bullying, discrimination and harassment? | F17: {=IFERROR(_xlfn.IFS(E17="We have not started this",1,E17="We have committed to a plan",2,E17="We have launched and are developing this",3,E17="We have been doing this for some time", 4),"")} | G17: 3
C18: H | D18: If you have started this, is there an external, confidential and independent mechanism for reporting such behaviour? | F18: {=IFERROR(_xlfn.IFS(E18="Yes",1,E18="N/A",0,E18="No",0),"")} | G18: 1
C19: I | D19: Do you measure how physically and psychologically safe staff and volunteers feel to speak up, speak out, say no and question others. For example, this could be through specific questions in surveys or exit interviews for leavers? | F19: {=IFERROR(_xlfn.IFS(E19="We have not started this",1,E19="We have committed to a plan",2,E19="We have launched and are developing this",3,E19="We have been doing this for some time", 4),"")} | G19: 3
C20: J | D20: Do you provide resources for staff and volunteers to participate in opportunities to contribute their experiences? An example of a resource is allocated work time. Examples of ways to contribute are as champions, on advisory groups and through networks and forums. | F20: {=IFERROR(_xlfn.IFS(E20="We have not started this",1,E20="We have committed to a plan",2,E20="We have launched and are developing this",3,E20="We have been doing this for some time", 4),"")} | G20: 3
C21: K | D21: Do you have a written statement of expected workplace behaviours which is communicated to people accessing services, staff and volunteers? | F21: {=IFERROR(_xlfn.IFS(E21="We have not started this",1,E21="We have committed to a plan",2,E21="We have launched and are developing this",3,E21="We have been doing this for some time", 4),"")} | G21: 3
C23: Total Score for Section 2: Culture and Voice | F23: =SUM(F6:F20) -> 0 | G23: =SUM(G5:G22) -> 37
C24: Self-Assessment Rating: | F24: =IF(F23>24,"Established",(IF(F23>12,"Developing","Beginning"))) -> Beginning
F25: Beginning | G25: 0-12
F26: Developing | G26: 13-24
F27: Established | G27: 25-37

Sheet Section 3
C2: Section 3: Recruitment, Management and Development
C3: How you connect to diverse talent pools and how you ensure inclusive routes into and through your organisation is vital to ensuring that you have a diverse, high performing workforce. You need to be confident that you can attract, recruit, retain and develop capable people, without bias or barriers. To achieve sustained progress, colleagues from underrepresented groups need not just to get in but to get on and to flourish in an enabling environment. Your approach to retention, development and progression will make the difference to whether there is diversity at all levels of your organisation.
C4: For each question, choose the closest description from these four options in the "Response" column. You will need to agree how you as an organisation define “for some time” before you start the assessment. For most organisations, this will be two years or more. | E4: Response | F4: Score | G4: MAX
C5: Recruitment practices
C6: A | D6: Do you promote your Equity, Diversity and Inclusion (EDI) approach during your recruitment process? | F6: {=IFERROR(_xlfn.IFS(E6="We have not started this",1,E6="We have committed to a plan",2,E6="We have launched and are developing this",3,E6="We have been doing this for some time", 4),"")} | G6: 3
C7: B | D7: Do you use any positive action initiatives at recruitment, for example in relation to disability, ethnic minorities, lived experience of homelessness, LGBTQ+ status or socio-economic disadvantage? By positive action we mean either general measures (s158 of the Equalities Act 2010) or specific action around recruitment/promotion (s159 of the Equalities Act 2020) | F7: {=IFERROR(_xlfn.IFS(E7="We have not started this",1,E7="We have committed to a plan",2,E7="We have launched and are developing this",3,E7="We have been doing this for some time", 4),"")} | G7: 3
C8: C1 | D8: Do you monitor the diversity of your workforce by (at least) age, disability, ethnicity and sex for small organisations and additionally by gender, religion and sexual orientation for larger organisations? By monitor we mean collect and review data | F8: {=IFERROR(_xlfn.IFS(E8="We have not started this",1,E8="We have committed to a plan",2,E8="We have launched and are developing this",3,E8="We have been doing this for some time", 4),"")} | G8: 3
C9: C2 | D9: If you have started this, are senior staff representative of the overall workforce? (IE is it as least as diverse across disability, ethnicity, gender, LGBTQ+ status)? | F9: {=IFERROR(_xlfn.IFS(E9="Yes",1,E9="N/A",0,E9="No",0),"")} | G9: 1
C10: C3 | D10: If it is not, are you taking evidence-based action in your recruitment policy approach to address this? | F10: {=IFERROR(_xlfn.IFS(E10="Yes",1,E10="N/A",0,E10="No",0),"")} | G10: 1
C11: D | D11: Do you provide training for hiring managers on inclusive hiring practice? | F11: {=IFERROR(_xlfn.IFS(E11="We have not started this",1,E11="We have committed to a plan",2,E11="We have launched and are developing this",3,E11="We have been doing this for some time", 4),"")} | G11: 3
C12: Career development
C13: E | D13: Do you undertake or support any specific career development initiatives for underrepresented groups (for example people who have lived experience of homelessness, who are minoritised ethnically, disabled or LGBTQ+)? Examples of initiatives may include leadership programmes, mentoring or sponsorship schemes? (If you are a small organisation, this may not be proportionate in relation to your resources.) | F13: {=IFERROR(_xlfn.IFS(E13="We have not started this",1,E13="We have committed to a plan",2,E13="We have launched and are developing this",3,E13="We have been doing this for some time", 4),"")} | G13: 3
C14: F | D14: Do you ensure that employees from underrepresented/disadvantaged groups have equal opportunity to access learning and development opportunities? (If you are a small organisation, this may not be proportionate to your resources.) | F14: {=IFERROR(_xlfn.IFS(E14="We have not started this",1,E14="We have committed to a plan",2,E14="We have launched and are developing this",3,E14="We have been doing this for some time", 4),"")} | G14: 3
C15: G | D15: Do line managers proactively encourage take-up of opportunities for learning and development and/or have objectives relating to others’ development? | F15: {=IFERROR(_xlfn.IFS(E15="We have not started this",1,E15="We have committed to a plan",2,E15="We have launched and are developing this",3,E15="We have been doing this for some time", 4),"")} | G15: 3
C16: Training
C17: H | D17: Do you provide training or support to protected groups, e.g. on anti-racism, LGBTQ+ inclusion or neurodiversity/inclusion? | F17: {=IFERROR(_xlfn.IFS(E17="We have not started this",1,E17="We have committed to a plan",2,E17="We have launched and are developing this",3,E17="We have been doing this for some time", 4),"")} | G17: 3
C18: I | D18: Do you provide training or support about operating in a trauma-informed way? | F18: {=IFERROR(_xlfn.IFS(E18="We have not started this",1,E18="We have committed to a plan",2,E18="We have launched and are developing this",3,E18="We have been doing this for some time", 4),"")} | G18: 3
C19: J | D19: Do you provide training or support for staff and volunteer mental health (e.g. mental health first aiders?) | F19: {=IFERROR(_xlfn.IFS(E19="We have not started this",1,E19="We have committed to a plan",2,E19="We have launched and are developing this",3,E19="We have been doing this for some time", 4),"")} | G19: 3
C20: Policies and procedures
C21: K | D21: Do you have a workplace or disability adjustments policy and/or procedure? | F21: {=IFERROR(_xlfn.IFS(E21="Yes",1,E21="N/A",0,E21="No",0),"")} | G21: 3
C22: L | D22: Do you have a policy on using plain English and avoiding jargon? | F22: {=IFERROR(_xlfn.IFS(E22="Yes",1,E22="N/A",0,E22="No",0),"")} | G22: 3
C23: M | D23: Do you have a flexible working policy and/or procedure? | F23: {=IFERROR(_xlfn.IFS(E23="Yes",1,E23="N/A",0,E23="No",0),"")} | G23: 3
C24: N | D24: Do you have any other relevant policies, for example on domestic abuse, fertility treatment, menopause, pregnancy loss or premature babies, etc? | F24: {=IFERROR(_xlfn.IFS(E24="Yes",1,E24="N/A",0,E24="No",0),"")} | G24: 3
C25: O | D25: Do you monitor for any overrepresentation of particular groups in absence, grievance and disciplinary processes? By monitor we mean collect and review data | F25: {=IFERROR(_xlfn.IFS(E25="We have not started this",1,E25="We have committed to a plan",2,E25="We have launched and are developing this",3,E25="We have been doing this for some time", 4),"")} | G25: 3
C26: Other
C27: L | D27: Are you signed up for the Disability Confident employer scheme? | F27: {=IFERROR(_xlfn.IFS(E27="We have not started this",1,E27="We have committed to a plan",2,E27="We have launched and are developing this",3,E27="We have been doing this for some time", 4),"")} | G27: 3
C28: M | D28: Do you conduct anonymised exit interviews for all leavers? | F28: {=IFERROR(_xlfn.IFS(E28="We have not started this",1,E28="We have committed to a plan",2,E28="We have launched and are developing this",3,E28="We have been doing this for some time", 4),"")} | G28: 3
C30: Total Score for Section 3: Recruitment, Management and Development | F30: =SUM(F6:F28) -> 0 | G30: =SUM(G6:G29) -> 53
C31: Self-Assessment Rating: | F31: =IF(F30>34,"Established",(IF(F30>17,"Developing","Beginning"))) -> Beginning
F32: Beginning | G32: 0-17
F33: Developing | G33: 18-34
F34: Established | G34: 35-53

Sheet Section 4
B2: Section 4: Data, Monitoring and Evaluation
B3: Analysing diversity data helps devise, implement, monitor and evaluate initiatives to address inequities in the workforce and in services. Diversity can mean the characteristics in the Equality Act but also socio-economic factors, such as level and type of education and whether someone would ever have been eligible for free school meals.
B4: For each question, choose the closest description from these four options in the "Response" column. You will need to agree how you as an organisation define “for some time” before you start the assessment. For most organisations, this will be two years or more. | D4: Response | E4: Score | F4: MAX
B5: A | C5: Do you monitor the diversity of your workforce (staff and/or volunteers) to identify any underrepresentation by diversity characteristics in relation to local or national datasets? By monitor we mean collect and review data | E5: {=IFERROR(_xlfn.IFS(D5="We have not started this",1,D5="We have committed to a plan",2,D5="We have launched and are developing this",3,D5="We have been doing this for some time", 4),"")} | F5: 3
B6: B1 | C6: Do you monitor the diversity of people accessing your services, to identify any underrepresentation by diversity characteristics in relation to local or national datasets? (in addition to age and sex)? By monitor we mean collect and review data | E6: {=IFERROR(_xlfn.IFS(D6="We have not started this",1,D6="We have committed to a plan",2,D6="We have launched and are developing this",3,D6="We have been doing this for some time", 4),"")} | F6: 3
B7: B2 | C7: If you have started this, do you additionally monitor the diversity of your workforce to identify any underrepresentation by diversity characteristics in relation to people accessing your services? By monitor we mean collect and review data | E7: {=IFERROR(_xlfn.IFS(D7="Yes",1,D7="N/A",0,D7="No",0),"")} | F7: 1
B8: C | C8: Is monitoring of diversity data of workforce and services a regular part of your organisation’s governance and leadership discussions? | E8: {=IFERROR(_xlfn.IFS(D8="We have not started this",1,D8="We have committed to a plan",2,D8="We have launched and are developing this",3,D8="We have been doing this for some time", 4),"")} | F8: 3
B9: D | C9: Does relevant quantitative and qualitative data on EDI feed into strategy, planning and evaluation for your organisation? | E9: {=IFERROR(_xlfn.IFS(D9="We have not started this",1,D9="We have committed to a plan",2,D9="We have launched and are developing this",3,D9="We have been doing this for some time", 4),"")} | F9: 3
B11: Total Score for Section 4: Data, Monitoring and Evaluation | E11: =SUM(E5:E9) -> 0 | F11: =SUM(F5:F10) -> 13
B12: Self-Assessment Rating: | E12: =IF(E11>8,"Established",(IF(E11>4,"Developing","Beginning"))) -> Beginning
E13: Beginning | F13: 0-4
E14: Developing | F14: 5-8
E15: Established | F15: 9-13

Sheet Results
B2: Project Lead: | D2: =IFERROR('About your organisation'!C6,"") -> 0 | E2: ='About your organisation'!C7 -> 0
B3: Organisation: | D3: ='About your organisation'!C8 -> 0 | E3: ='About your organisation'!C10 -> 0
G5: Rating | H5: Comments | I5: Related Resources (click-through links)
B6: Section 1: | D6: Governance, Strategy and Leadership | G6: ='Section 1 '!F32 -> Beginning | H6: =(IF(G6="Established","Your organisation is doing well in this area. While there is always room for improvement, you may wish to focus your efforts on other areas.",(IF(G6="Developing","Your organisation has made progress in this area, however you should focus on embedding existing practice and considering what else you may be able to do.","Your organisation has done little in this area and you may wish to focus your efforts here. ")))) -> Your organisation has done little in this area and you may wish to focus your efforts here. | I6: NCVO: Equality, Diversity and Inclusion at board level | J6: Homeless Link: EDI Strategy | K6: Samaritans | Equity, diversity and inclusion | Our two-year plan | L6: Mayor of London EDI Advisory Group meetings, agendas and minutes
B7: Section 2: | D7: Culture and Voice | G7: ='Section 2'!F24 -> Beginning | H7: =(IF(G7="Established","Your organisation is doing well in this area. While there is always room for improvement, you may wish to focus your efforts on other areas.",(IF(E5="Developing","Your organisation has made progress in this area, however you should focus on embedding existing practice and considering what else you may be able to do.","Your organisation has done little in this area and you may wish to focus your efforts here. ")))) -> Your organisation has done little in this area and you may wish to focus your efforts here. | I7: Homeless Link: Co-production toolkit | J7: Homeless Link: Involving and recruiting people with lived experience | K7: Homeless Link: TIC training | L7: National Survivor User Network: Lived experience leadership panel discussion
B8: Section 3: | D8: Recruitment, Management and Development | G8: ='Section 3'!F31 -> Beginning | H8: =(IF(G8="Established","Your organisation is doing well in this area. While there is always room for improvement, you may wish to focus your efforts on other areas.",(IF(E6="Developing","Your organisation has made progress in this area, however you should focus on embedding existing practice and considering what else you may be able to do.","Your organisation has done little in this area and you may wish to focus your efforts here. ")))) -> Your organisation has done little in this area and you may wish to focus your efforts here. | I8: DWP: Disability Confident Scheme | J8: ACAS: Improving equality, diversity and inclusion in your workplace | K8: CIPD: EDI in the workplace Factsheet
B9: Section 4: | D9: Data, Monitoring and Evaluation | G9: ='Section 4'!E12 -> Beginning | H9: =(IF(G9="Established","Your organisation is doing well in this area. While there is always room for improvement, you may wish to focus your efforts on other areas.",(IF(E7="Developing","Your organisation has made progress in this area, however you should focus on embedding existing practice and considering what else you may be able to do.","Your organisation has done little in this area and you may wish to focus your efforts here. ")))) -> Your organisation has done little in this area and you may wish to focus your efforts here. | I9: ACAS: Equality and diversity monitoring form template | J9: pwc: Diversity data guide
B10: Overall Rating | G10: =IF(G11>104,"Established",(IF(G11>52,"Developing","Beginning"))) -> Beginning | H10: =(IF(G10="Established","You've made excellent progress across all areas - congratulations! Homeless Link is always keen to share good practice with other organisations, so do get in touch to let us know more about your EDI journey.",(IF(G10="Developing","Congratulations on all you've achieved so far. You've made good progress across all areas - now is the time to embed the work you've started. Homeless Link are here to support you, so please do let us know how you're doing.","Congratulations on starting out in making your organisation more equitable, diverse and inclusive! Homeless Link are here to support you, so do let us know how you're doing and what training and resources would be useful. ")))) -> Congratulations on starting out in making your organisation more equitable, diverse and inclusive! Homeless Link are here to support you, so do let us know how you're doing and what training and resources would be useful.
B11: Total score | G11: ='Section 1 '!F31+'Section 2'!F23+'Section 3'!F30+'Section 4'!F11 -> 13
F13: Beginning | G13: 0-52
F14: Developing | G14: 53-104
F15: Established | G15: 105-157

Sheet Dropdowns
B2: We have not started this | D2: £0 - 50,000 | F2: We do not monitor diversity characteristics
B3: We have committed to a plan | D3: £50,001 - 100,000 | F3: We monitor only age and sex
B4: We have launched and are developing this | D4: £100,001 - 500,000 | F4: As well as age and sex, we monitor one or more of disability, ethnicity, religion, sexual orientation, gender, socio-economic background or lived experience of homelessness
B5: We have been doing this for some time | D5: £500,001 - 1,000,000 | F5: As well as age and sex, we monitor all or most of disability, ethnicity, religion, sexual orientation, gender, socio-economic background and lived experience of homelessness
D6: £1,000,001 - 2,000,000
B7: Yorkshire & Humber | D7: £2,000,001 - 5,000,000 | F7: Yes
B8: North East | D8: £5,000,001+ | F8: No
B9: Lancashire & Cumbria | F9: N/A
B10: North West | D10: 0 - 5
B11: West Midlands | D11: 6 - 20 | F11: No
B12: East Midlands | D12: 21 - 50 | F12: Level 1: Committed
B13: East | D13: 51 - 100 | F13: Level 2: Employer
B14: South East | D14: 101 - 500 | F14: Level 3: Leader
B15: South West | D15: 501 - 1000
B16: London | D16: 1001+
B18: Adur
B19: Allerdale
B20: Amber Valley
B21: Arun
B22: Ashfield
B23: Ashford
B24: Babergh
B25: Barking and Dagenham
B26: Barnet
B27: Barnsley
B28: Barrow-in-Furness
B29: Basildon
... B326: York

Sheet Version control
B2: Version # | C2: Date released | D2: Updates
B3: 1.0 | C3: 45156 | D3: N/A
B4: 1.1 | C4: 11/9/23 | D4: Incorporated feedback from HL EDIAG and three members of pilot group
B5: 1.2 | C5: 45225 | D5: Re-ordered questions
B6: 1.3 | C6: 45250 | D6: Added max scores
B7: 2.0 | C7: 46309 | D7: Reverting to excel from online version - checked formulas and links. Added sheet protection. Pw = edi26
