Workbook

Sheet Instructions
B3: 1. | C3: On the 'Markers' sheet, go through each marker rating yourself against the outstanding example offered.
B4: • | C4: Your score for each marker and overall partnership score will be automatically calculated, and displayed on the 'Overview' sheet.
B6: 2. | C6: Note next to each marker examples of good practice and areas of concern.
B8: 3. | C8: Record in the action plan activities to help improve or sustain partnerships.
B9: • | C9: Actions that are overdue or upcoming will automatically appear on the 'Overview' sheet. Note: Please enter the date in the following format: 01/01/2000
B11: Note: You do not need to enter any information on the 'Overview' sheet. This will automatically populate.

Sheet Overview
A1: Do not type on this sheet
A3: Marker | B3: Score | D3: Outstanding Actions
A4: Clarity of Purpose | B4: =Markers!G3 -> 0 | D4: Date | E4: Marker | F4: Action | G4: Who | H4: When | I4: RAG | J4: Progress Comments
A5: Connectivity | B5: =Markers!G9 -> 0 | D5: {=_xlfn._xlws.FILTER('Action Plan'!A3:G230,('Action Plan'!F3:F230<>"Completed"), "No results")} -> 0 | E5: 0 | F5: 0 | G5: 0 | H5: 0 | I5: 0 | J5: 0
A6: Co-Production | B6: =Markers!G15 -> 0 | D6: 0 | E6: 0 | F6: 0 | G6: 0 | H6: 0 | I6: 0 | J6: 0
A7: Collaboration | B7: =Markers!G21 -> 0 | D7: 0 | E7: 0 | F7: 0 | G7: 0 | H7: 0 | I7: 0 | J7: 0
A8: Communication | B8: =Markers!G27 -> 0 | D8: 0 | E8: 0 | F8: 0 | G8: 0 | H8: 0 | I8: 0 | J8: 0
A9: Total: | B9: =SUM(B4:B8) -> 0 | D9: 0 | E9: 0 | F9: 0 | G9: 0 | H9: 0 | I9: 0 | J9: 0
D10: 0 | E10: 0 | F10: 0 | G10: 0 | H10: 0 | I10: 0 | J10: 0
D11: 0 | E11: 0 | F11: 0 | G11: 0 | H11: 0 | I11: 0 | J11: 0
D12: 0 | E12: 0 | F12: 0 | G12: 0 | H12: 0 | I12: 0 | J12: 0
D13: 0 | E13: 0 | F13: 0 | G13: 0 | H13: 0 | I13: 0 | J13: 0
D14: 0 | E14: 0 | F14: 0 | G14: 0 | H14: 0 | I14: 0 | J14: 0
D15: 0 | E15: 0 | F15: 0 | G15: 0 | H15: 0 | I15: 0 | J15: 0
D16: 0 | E16: 0 | F16: 0 | G16: 0 | H16: 0 | I16: 0 | J16: 0
D17: 0 | E17: 0 | F17: 0 | G17: 0 | H17: 0 | I17: 0 | J17: 0
D18: 0 | E18: 0 | F18: 0 | G18: 0 | H18: 0 | I18: 0 | J18: 0
D19: 0 | E19: 0 | F19: 0 | G19: 0 | H19: 0 | I19: 0 | J19: 0
D20: 0 | E20: 0 | F20: 0 | G20: 0 | H20: 0 | I20: 0 | J20: 0
D21: 0 | E21: 0 | F21: 0 | G21: 0 | H21: 0 | I21: 0 | J21: 0
... D232: 0 | E232: 0 | F232: 0 | G232: 0 | H232: 0 | I232: 0 | J232: 0

Sheet Markers
A1: Marker | C1: Score | H1: Score | I1: Evidence of Good Practice | J1: Areas of Concern
C2: Outstanding | D2: Good | E2: Acceptable | F2: Requires Improvement | G2: Inadequate | H2: =SUM(H4:H32) -> 0
A3: Clarity of Purpose | F3: Total: | G3: =SUM(H4:H8) -> 0
A4: Influence | B4: The partnership knows how to feed in issues to relevant strategic groups and wider governance structures, normally setup within local authority catchment areas, e.g., Homelessness Reduction Board, Health & Wellbeing Board, Integrated Care Board, or any other relevant boards or groups that can make decisions that influence the way systems work and improve outcomes for people. | H4: =IF(C4=TRUE,1,IF(D4=TRUE,2,IF(E4=TRUE,3,IF(F4=TRUE,4,IF(G4=TRUE,5))))) -> FALSE
A5: Shared Vision | B5: A Homelessness Charter or clear vision for the local homelessness partnership is established and understood by all agencies involved. This Charter or vision is reviewed annually to ensure it remains relevant and consistent with identifying and meeting the needs of local people. | H5: =IF(C5=TRUE,1,IF(D5=TRUE,2,IF(E5=TRUE,3,IF(F5=TRUE,4,IF(G5=TRUE,5))))) -> FALSE
A6: Roles and Responsibilities | B6: Partners’ roles and responsibilities are clearly defined, and each person involved in the local approaches, forums, or groups understands the purpose of their role and what they can bring to the table. | H6: =IF(C6=TRUE,1,IF(D6=TRUE,2,IF(E6=TRUE,3,IF(F6=TRUE,4,IF(G6=TRUE,5))))) -> FALSE
A7: Terms of Reference | B7: A Terms of Reference or equivalent document underpins the purpose of the local Homelessness Forum. This is reviewed annually to ensure it remains relevant and up to date. | H7: =IF(C7=TRUE,1,IF(D7=TRUE,2,IF(E7=TRUE,3,IF(F7=TRUE,4,IF(G7=TRUE,5))))) -> FALSE
A8: Homelessness Forums | B8: Homelessness Forum meetings are held regularly, and all the relevant agencies are involved across statutory, voluntary & community sector, faith-based, and other organisations or bodies. | H8: =IF(C8=TRUE,1,IF(D8=TRUE,2,IF(E8=TRUE,3,IF(F8=TRUE,4,IF(G8=TRUE,5))))) -> FALSE
A9: Connectivity | F9: Total: | G9: =SUM(H10:H14) -> 0
A10: Shared Opportunities | B10: The partnership has an established relationship with relevant funders and local authority officers and commissioners. This includes open communication and information sharing regarding commissioning or new funding opportunities across the partnership. | H10: =IF(C10=TRUE,1,IF(D10=TRUE,2,IF(E10=TRUE,3,IF(F10=TRUE,4,IF(G10=TRUE,5))))) -> FALSE
A11: Working Groups | B11: Working groups or action focused groups are in place which enable ongoing connections regarding opportunities for collaboration, funding, and solution focused discussions across relevant local agencies. | H11: =IF(C11=TRUE,1,IF(D11=TRUE,2,IF(E11=TRUE,3,IF(F11=TRUE,4,IF(G11=TRUE,5))))) -> FALSE
A12: Referral Pathways | B12: Accessible and clear referral pathways are are in place and known to local agencies, which enable services to connect and work together to maximise positive outcomes for people experiencing homelessness and rough sleeping locally. | H12: =IF(C12=TRUE,1,IF(D12=TRUE,2,IF(E12=TRUE,3,IF(F12=TRUE,4,IF(G12=TRUE,5))))) -> FALSE
A13: Operational and Strategic Groups | B13: Seamless and consistent connection exists between operational and strategic groups and functions and there are clear lines of reporting and accountability between the two. | H13: =IF(C13=TRUE,1,IF(D13=TRUE,2,IF(E13=TRUE,3,IF(F13=TRUE,4,IF(G13=TRUE,5))))) -> FALSE
A14: Joined Up Working | B14: Silo working is minimised within agencies and all partners can demonstrate ways of effectively working in partnership with a positive external outlook. | H14: =IF(C14=TRUE,1,IF(D14=TRUE,2,IF(E14=TRUE,3,IF(F14=TRUE,4,IF(G14=TRUE,5))))) -> FALSE
A15: Co-Production | F15: Total: | G15: =SUM(H16:H20) -> 0
A16: Involvement | B16: Co-production is embedded at both strategic and operational levels. People with lived experience of homelessness or rough sleeping are effectively involved in forming approaches and making decisions that affect them. | H16: =IF(C16=TRUE,1,IF(D16=TRUE,2,IF(E16=TRUE,3,IF(F16=TRUE,4,IF(G16=TRUE,5))))) -> FALSE
A17: Equipping | B17: People with lived experience are provided with training and are equipped with appropriate support to participate meaningfully in co-production activities. | H17: =IF(C17=TRUE,1,IF(D17=TRUE,2,IF(E17=TRUE,3,IF(F17=TRUE,4,IF(G17=TRUE,5))))) -> FALSE
A18: Embedding | B18: Co-production is meaningfully embedded within the design, delivery, and oversight of the partnership, to ensure all elements of the partnership approach(es) incorporate the voices of people with lived experience. | H18: =IF(C18=TRUE,1,IF(D18=TRUE,2,IF(E18=TRUE,3,IF(F18=TRUE,4,IF(G18=TRUE,5))))) -> FALSE
A19: Mutual Agreement | B19: Co-production principles are mutually agreed across the partnership and included in the Charter, Terms of Reference or other agreed ways of working. | H19: =IF(C19=TRUE,1,IF(D19=TRUE,2,IF(E19=TRUE,3,IF(F19=TRUE,4,IF(G19=TRUE,5))))) -> FALSE
A20: Peer Mentoring | B20: Established Peer Mentoring is in place and operating across the local system. People with lived experience are a member of and supported by the local partnership of agencies. | H20: =IF(C20=TRUE,1,IF(D20=TRUE,2,IF(E20=TRUE,3,IF(F20=TRUE,4,IF(G20=TRUE,5))))) -> FALSE
A21: Collaboration | F21: Total: | G21: =SUM(H22:H26) -> 0
A22: Shared Learning | B22: Learning needs are identified across the partnership and training, shadowing, and other learning opportunities are made available and shared with members and other agencies where appropriate. | H22: =IF(C22=TRUE,1,IF(D22=TRUE,2,IF(E22=TRUE,3,IF(F22=TRUE,4,IF(G22=TRUE,5))))) -> FALSE
A23: Joint Action Planning | B23: Operational forums are held with Multidisciplinary Teams and workable SMART actions are agreed. Partners are held to account and there are clearly identified links between operational and strategic groups or forums. | H23: =IF(C23=TRUE,1,IF(D23=TRUE,2,IF(E23=TRUE,3,IF(F23=TRUE,4,IF(G23=TRUE,5))))) -> FALSE
A24: Reflective Practice | B24: The partnership is holding reflective practice sessions to review the partnership's strengths and areas for improvement, as well as providing an opportunity for identifying any established and emerging good practice. | H24: =IF(C24=TRUE,1,IF(D24=TRUE,2,IF(E24=TRUE,3,IF(F24=TRUE,4,IF(G24=TRUE,5))))) -> FALSE
A25: Identifying & Filling Gaps | B25: The partnership identifies gaps in local service provision and responds by jointly bidding for new services where appropriate, sharing resources, and together exploring other funding/commissioning opportunities. New services are built that are evidence-based and filling gaps where needed. | H25: =IF(C25=TRUE,1,IF(D25=TRUE,2,IF(E25=TRUE,3,IF(F25=TRUE,4,IF(G25=TRUE,5))))) -> FALSE
A26: Strengths and Skills | B26: Partnerships are acknowledging the strengths and skills of all the members and utilising each other's experience to form relationships with formal partnership agreements in place where necessary. | H26: =IF(C26=TRUE,1,IF(D26=TRUE,2,IF(E26=TRUE,3,IF(F26=TRUE,4,IF(G26=TRUE,5))))) -> FALSE
A27: Communication | F27: Total: | G27: =SUM(H28:H32) -> 0
A28: Information & Data Sharing Agreements | B28: Arrangements for sharing information are in place and consistent across all members of the partnership and are regularly reviewed to ensure that relevant information is shared between agencies where appropriate and where this will have a benefit for people accessing services and receiving support. | H28: =IF(C28=TRUE,1,IF(D28=TRUE,2,IF(E28=TRUE,3,IF(F28=TRUE,4,IF(G28=TRUE,5))))) -> FALSE
A29: Accessible Language | B29: Language is inclusive, clear, jargon free, and understood by all partners; an acronym reference or glossary are included in the Terms of Reference or other agreed ways of working. | H29: =IF(C29=TRUE,1,IF(D29=TRUE,2,IF(E29=TRUE,3,IF(F29=TRUE,4,IF(G29=TRUE,5))))) -> FALSE
A30: IT Security | B30: Nuances across different IT systems are understood to ensure that information is shared smoothly and quickly between agencies, considering organisational requirements for safe and secure data sharing. | H30: =IF(C30=TRUE,1,IF(D30=TRUE,2,IF(E30=TRUE,3,IF(F30=TRUE,4,IF(G30=TRUE,5))))) -> FALSE
A31: Consistency | B31: Communication is consistent and there is a regularly updated, online and accessible directory of local services to assist those who are homeless or vulnerably housed, with the purpose of identifying the relevant point of contact for a service. | H31: =IF(C31=TRUE,1,IF(D31=TRUE,2,IF(E31=TRUE,3,IF(F31=TRUE,4,IF(G31=TRUE,5))))) -> FALSE
A32: Diverse Platforms | B32: Varied platforms for engagement are adopted by members of the partnership including those with lived experience of homelessness or rough sleeping. These platforms could include Microsoft SharePoint, Teams or other application and web-based platforms that meet the needs of the users. | H32: =IF(C32=TRUE,1,IF(D32=TRUE,2,IF(E32=TRUE,3,IF(F32=TRUE,4,IF(G32=TRUE,5))))) -> FALSE

Sheet Action Plan
A1: Local Partnership Plan
A2: Date | B2: Marker | C2: Action | D2: Who | E2: When | F2: RAG | G2: Progress Comments
